BEGIN:VCALENDAR
VERSION:2.0
PRODID:icalendar-ruby
CALSCALE:GREGORIAN
METHOD:PUBLISH
BEGIN:VEVENT
DTSTAMP:20260424T140129Z
UID:67-242495@m2lministries.com
DTSTART:20260503T120000Z
DTEND:20260503T133000Z
CLASS:PUBLIC
CREATED:20260423T132423
DESCRIPTION: Men’s Breakfast at M2L \nMen\, it’s time to gather! Join u
 s on Sunday\, May 3rd at 8:00 AM for a morning of good food\, real fellows
 hip\, and encouragement in the Lord.\n Location: M2L Pole Barn\nCome hungr
 y—feed your belly AND your soul.\nAfter breakfast\, stick around and hea
 d into the sanctuary with us as we worship together during our 10 AM servi
 ce. There’s nothing better than starting the day grounded in brotherhood
  and the presence of God.\nBring a friend\, a son\, or someone who needs c
 ommunity—we’ve got a seat ready for them.\n More 2 Life Ministries“W
 here lives are transformed.
LAST-MODIFIED:20260423T132423
LOCATION:M2L PoleBarn
SUMMARY:Men's Breakfast
URL;VALUE=URI:https://m2lministries.com/events/mens-breakfast--67/2026-05-0
 3
ATTACH;FILENAME=No-mens-breakfast.png;FMTTYPE=image/png:https://dq5pwpg1q8r
 u0.cloudfront.net/2026/04/23/17/24/22/8aa59f53-c143-4553-9107-d4b5cfa36cb2
 /No-mens-breakfast.png
END:VEVENT
END:VCALENDAR
